BEGIN:VCALENDAR
VERSION:2.0
PRODID:-// - ECPv6.5.0.1//NONSGML v1.0//EN
CALSCALE:GREGORIAN
METHOD:PUBLISH
X-ORIGINAL-URL:https://bargrez.cl
X-WR-CALDESC:Eventos para 
REFRESH-INTERVAL;VALUE=DURATION:PT1H
X-Robots-Tag:noindex
X-PUBLISHED-TTL:PT1H
BEGIN:VTIMEZONE
TZID:America/Halifax
BEGIN:DAYLIGHT
TZOFFSETFROM:-0400
TZOFFSETTO:-0300
TZNAME:ADT
DTSTART:20250309T060000
END:DAYLIGHT
BEGIN:STANDARD
TZOFFSETFROM:-0300
TZOFFSETTO:-0400
TZNAME:AST
DTSTART:20251102T050000
END:STANDARD
END:VTIMEZONE
BEGIN:VEVENT
DTSTART;TZID=America/Halifax:20250828T210000
DTEND;TZID=America/Halifax:20250828T235900
DTSTAMP:20260419T121753
CREATED:20250825T034924Z
LAST-MODIFIED:20250825T034950Z
UID:2892-1756414800-1756425540@bargrez.cl
SUMMARY:Baraja & Gumucio\, 28 de Agosto
DESCRIPTION:BERNARDO BARAJA\, VOZ – GUITARRA.\nTOMÁS GUMUCIO\, VOZ – GUITARRA.\nFELIPE ROJAS\, PIANO.\nCRISTIAN ALDUNATE\, BAJO.\nPABLO ARACENA\, BATERÍA.
URL:https://bargrez.cl/event/baraja-gumucio/
LOCATION:Bar Grez\, Dr. Manuel Barros Borgoño 81\, Santiago\, Chile
CATEGORIES:Blues
ATTACH;FMTTYPE=image/jpeg:https://bargrez.cl/wp-content/uploads/2025/08/2808.jpeg
END:VEVENT
BEGIN:VEVENT
DTSTART;TZID=America/Halifax:20250903T203000
DTEND;TZID=America/Halifax:20250903T235900
DTSTAMP:20260419T121753
CREATED:20250831T232444Z
LAST-MODIFIED:20250831T232444Z
UID:2911-1756931400-1756943940@bargrez.cl
SUMMARY:Blues Jam Session\, 03 de septiembre
DESCRIPTION:Anfitriones: The Blues Riders
URL:https://bargrez.cl/event/blues-jam-session-03-de-septiembre/
LOCATION:Bar Grez\, Dr. Manuel Barros Borgoño 81\, Santiago\, Chile
CATEGORIES:Blues
ATTACH;FMTTYPE=image/jpeg:https://bargrez.cl/wp-content/uploads/2025/08/0903.jpeg
END:VEVENT
BEGIN:VEVENT
DTSTART;TZID=America/Halifax:20250905T213000
DTEND;TZID=America/Halifax:20250905T235900
DTSTAMP:20260419T121753
CREATED:20250831T233350Z
LAST-MODIFIED:20250831T233350Z
UID:2915-1757107800-1757116740@bargrez.cl
SUMMARY:Celebración 100 años de BB King\, 5 de septiembre
DESCRIPTION:JANO LETELIER\, VOZ – GUITARRA.\nJORGE QUINTEROS\, BATERÍA.\nRINGO\, GUITARRA.\nRENATO FERNANDEZ\, BAJO.\nFELIPE ROJAS\, PIANO.\n\nINVITADOS \n\nGONZALO ARAYA\, ARMONICA.\nTOMÁS GUMUCIO\, VOZ GUITARRA.\nFELIPE TORO GUITARRA – VOZ.\nTATIANA MORALES\, VOZ.
URL:https://bargrez.cl/event/celebracion-100-anos-de-bb-king-5-de-septiembre/
LOCATION:Bar Grez\, Dr. Manuel Barros Borgoño 81\, Santiago\, Chile
CATEGORIES:Blues
ATTACH;FMTTYPE=image/jpeg:https://bargrez.cl/wp-content/uploads/2025/08/0905.jpeg
END:VEVENT
BEGIN:VEVENT
DTSTART;TZID=America/Halifax:20250910T203000
DTEND;TZID=America/Halifax:20250910T235900
DTSTAMP:20260419T121753
CREATED:20250908T030004Z
LAST-MODIFIED:20250908T030004Z
UID:2929-1757536200-1757548740@bargrez.cl
SUMMARY:Blues Jam Session\, 10 de septiembre
DESCRIPTION:Anfitriones: The Blues Riders
URL:https://bargrez.cl/event/blues-jam-session-10-de-septiembre/
LOCATION:Bar Grez\, Dr. Manuel Barros Borgoño 81\, Santiago\, Chile
CATEGORIES:Blues
ATTACH;FMTTYPE=image/jpeg:https://bargrez.cl/wp-content/uploads/2025/09/0910.jpeg
END:VEVENT
BEGIN:VEVENT
DTSTART;TZID=America/Halifax:20250913T213000
DTEND;TZID=America/Halifax:20250913T235900
DTSTAMP:20260419T121753
CREATED:20250908T030433Z
LAST-MODIFIED:20250908T030450Z
UID:2934-1757799000-1757807940@bargrez.cl
SUMMARY:Seba Arriagada Experience Trío\, 13 septiembre
DESCRIPTION:SEBA ARRIAGADA\,\nGUITARRA Y VOZ\nSAMY MALUENDA\, BAJO\nNICOLAS POZO\, BATERIA\n\nInvitado especial Rodrigo Carrasco en Saxo \n  \n 
URL:https://bargrez.cl/event/seba-arriagada-experience-trio-13-septiembre/
LOCATION:Bar Grez\, Dr. Manuel Barros Borgoño 81\, Santiago\, Chile
CATEGORIES:Blues,Jazz
ATTACH;FMTTYPE=image/jpeg:https://bargrez.cl/wp-content/uploads/2025/09/0913.jpeg
END:VEVENT
BEGIN:VEVENT
DTSTART;TZID=America/Halifax:20250917T203000
DTEND;TZID=America/Halifax:20250917T235900
DTSTAMP:20260419T121753
CREATED:20250915T015920Z
LAST-MODIFIED:20250915T015920Z
UID:2943-1758141000-1758153540@bargrez.cl
SUMMARY:Blues Jam Session\, 17 de septiembre
DESCRIPTION:Anfitriones: The Blues Riders
URL:https://bargrez.cl/event/blues-jam-session-17-de-septiembre/
LOCATION:Bar Grez\, Dr. Manuel Barros Borgoño 81\, Santiago\, Chile
CATEGORIES:Blues
ATTACH;FMTTYPE=image/jpeg:https://bargrez.cl/wp-content/uploads/2025/09/0917.jpeg
END:VEVENT
BEGIN:VEVENT
DTSTART;TZID=America/Halifax:20250924T203000
DTEND;TZID=America/Halifax:20250924T235900
DTSTAMP:20260419T121753
CREATED:20250922T021038Z
LAST-MODIFIED:20250922T021038Z
UID:2956-1758745800-1758758340@bargrez.cl
SUMMARY:Blues Jam Session\, 24 de septiembre
DESCRIPTION:Anfitriones: The Blues Riders
URL:https://bargrez.cl/event/blues-jam-session-24-de-septiembre/
LOCATION:Bar Grez\, Dr. Manuel Barros Borgoño 81\, Santiago\, Chile
CATEGORIES:Blues
ATTACH;FMTTYPE=image/jpeg:https://bargrez.cl/wp-content/uploads/2025/09/0924.jpeg
END:VEVENT
BEGIN:VEVENT
DTSTART;TZID=America/Halifax:20250925T213000
DTEND;TZID=America/Halifax:20250925T235900
DTSTAMP:20260419T121753
CREATED:20250922T021300Z
LAST-MODIFIED:20250922T021300Z
UID:2958-1758835800-1758844740@bargrez.cl
SUMMARY:Max Drapela\, 25 septiembre
DESCRIPTION:Max Drapela\, Voz/Guitarra.\nCrtistián Silva\, Percusiones.\nPatricio Mendez\, Bajo.\nRaúl Ramos\, Batería.
URL:https://bargrez.cl/event/max-drapela-25-septiembre/
LOCATION:Bar Grez\, Dr. Manuel Barros Borgoño 81\, Santiago\, Chile
CATEGORIES:Blues,Rock show
ATTACH;FMTTYPE=image/jpeg:https://bargrez.cl/wp-content/uploads/2025/09/0925.jpeg
END:VEVENT
BEGIN:VEVENT
DTSTART;TZID=America/Halifax:20251001T203000
DTEND;TZID=America/Halifax:20251001T235900
DTSTAMP:20260419T121753
CREATED:20250929T021347Z
LAST-MODIFIED:20250929T021347Z
UID:2975-1759350600-1759363140@bargrez.cl
SUMMARY:Blues Jam Session\, 1 de octubre
DESCRIPTION:Anfitrión Jano Letelier y Bando \n\nAlvaro Vildosola\, Bajo\nPablo Aracena Batería
URL:https://bargrez.cl/event/blues-jam-session-1-de-octubre/
LOCATION:Bar Grez\, Dr. Manuel Barros Borgoño 81\, Santiago\, Chile
CATEGORIES:Blues
ATTACH;FMTTYPE=image/jpeg:https://bargrez.cl/wp-content/uploads/2025/09/1001.jpeg
END:VEVENT
BEGIN:VEVENT
DTSTART;TZID=America/Halifax:20251002T210000
DTEND;TZID=America/Halifax:20251002T235900
DTSTAMP:20260419T121753
CREATED:20250929T021713Z
LAST-MODIFIED:20250929T021713Z
UID:2977-1759438800-1759449540@bargrez.cl
SUMMARY:Andrés Nasar Full Band y Amigos\, 2 de octubre
DESCRIPTION:Entradas disponibles en Alltickets
URL:https://bargrez.cl/event/andres-nasar-full-band-y-amigos-2-de-octubre/
LOCATION:Bar Grez\, Dr. Manuel Barros Borgoño 81\, Santiago\, Chile
CATEGORIES:Blues
ATTACH;FMTTYPE=image/jpeg:https://bargrez.cl/wp-content/uploads/2025/09/1002.jpeg
END:VEVENT
BEGIN:VEVENT
DTSTART;TZID=America/Halifax:20251003T213000
DTEND;TZID=America/Halifax:20251003T235900
DTSTAMP:20260419T121753
CREATED:20250929T022306Z
LAST-MODIFIED:20250929T022306Z
UID:2979-1759527000-1759535940@bargrez.cl
SUMMARY:Armónicas de Fuego\, 3 de octubre
DESCRIPTION:El evento “Armónicas de Fuego” reúne a tres leyendas vivientes del blues chileno en un escenario único. \nClaudio Bluesman\, voz y armónica de la banda El Cruce\, Pancho Rojas\, carismático líder de Capitán Corneta\, y Gonzalo Araya\, se encuentran para dar vida a un concierto que promete intensidad\, improvisación y mucha alma. \nEn esta ocasión\, además\, se celebrará el cumpleaños de Gonzalo Araya\, convirtiendo la velada en una fiesta inolvidable donde el blues será el protagonista absoluto. \nUna oportunidad única de ver a tres referentes juntos sobre el mismo escenario\, compartiendo su pasión y talento. \nEntradas diponibles en Passline
URL:https://bargrez.cl/event/armonicas-de-fuego-3-de-octubre/
LOCATION:Bar Grez\, Dr. Manuel Barros Borgoño 81\, Santiago\, Chile
CATEGORIES:Blues
ATTACH;FMTTYPE=image/jpeg:https://bargrez.cl/wp-content/uploads/2025/09/1003.jpeg
END:VEVENT
BEGIN:VEVENT
DTSTART;TZID=America/Halifax:20251006T200000
DTEND;TZID=America/Halifax:20251006T235900
DTSTAMP:20260419T121753
CREATED:20251006T124807Z
LAST-MODIFIED:20251006T124807Z
UID:2986-1759780800-1759795140@bargrez.cl
SUMMARY:Ciclos Mundo Music Monday: Guitar Party
DESCRIPTION:Banda Anfitriona: Blues Local \nBlues Local está formada por: \n\nAlvaro Rock\, Voz\nRingo\, Guitarra\nBeiza\, Bateria\nFernández\, Bajo\n\nEntradas disponibles en Portaltickets
URL:https://bargrez.cl/event/ciclos-mundo-music-monday-guitar-party/
LOCATION:Bar Grez\, Dr. Manuel Barros Borgoño 81\, Santiago\, Chile
CATEGORIES:Blues
ATTACH;FMTTYPE=image/jpeg:https://bargrez.cl/wp-content/uploads/2025/10/1006.jpeg
END:VEVENT
BEGIN:VEVENT
DTSTART;TZID=America/Halifax:20251008T203000
DTEND;TZID=America/Halifax:20251008T235900
DTSTAMP:20260419T121753
CREATED:20251006T181439Z
LAST-MODIFIED:20251006T181439Z
UID:2991-1759955400-1759967940@bargrez.cl
SUMMARY:Blues Jam Session\, 8 de octubre
DESCRIPTION:Anfitrión Jano Letelier y Bando \n\nAlvaro Vildosola\, Bajo\nPablo Aracena Batería
URL:https://bargrez.cl/event/blues-jam-session-8-de-octubre/
LOCATION:Bar Grez\, Dr. Manuel Barros Borgoño 81\, Santiago\, Chile
CATEGORIES:Blues
ATTACH;FMTTYPE=image/jpeg:https://bargrez.cl/wp-content/uploads/2025/10/1008.jpeg
END:VEVENT
BEGIN:VEVENT
DTSTART;TZID=America/Halifax:20251013T200000
DTEND;TZID=America/Halifax:20251013T235900
DTSTAMP:20260419T121753
CREATED:20251013T000517Z
LAST-MODIFIED:20251013T000517Z
UID:3008-1760385600-1760399940@bargrez.cl
SUMMARY:Ciclos Mundo Music Monday: Vamos Rodrigo\, La música sana\, 13 octubre
DESCRIPTION:La música tiene el poder de sanar y unir corazones.\nEste concierto a beneficio nace de la convicción de que cantar con el alma puede aliviar y dar fuerza.\nRodrigo está luchando contra un cáncer\, pero la fé\, el amor y la música hará que todo pase. \nSomos un grupo de amigos que creemos que el amor y la música todo lo puede. \nArtistas:\nRODRIGO FRITZ\, Dúo J&G (clásicos de los 60s)\, FRAN SFEIR\, BÁRBARA LIRA\, BLACK VILLALOBOS\, DIEGO MOLINA\, GATILLO GERARD. \nVEN A ESCUCHAR MÚSICA QUE SALE DIRECTAMENTE DEL CORAZÓN \nCada entrada es un aporte directo en apoyo a Rodrigo\, porque juntos podemos transformar la música en esperanza. 🎶💙\nSI NO PUEDES ASISTIR\, PUEDES HACER UN APORTE VOLUNTARIO (que es a parte de la entrada) \nEntradas disponibles en Portaltickets
URL:https://bargrez.cl/event/ciclos-mundo-music-monday-vamos-rodrigo-la-musica-sana-13-octubre/
LOCATION:Bar Grez\, Dr. Manuel Barros Borgoño 81\, Santiago\, Chile
CATEGORIES:Blues
ATTACH;FMTTYPE=image/jpeg:https://bargrez.cl/wp-content/uploads/2025/10/1013.jpeg
END:VEVENT
BEGIN:VEVENT
DTSTART;TZID=America/Halifax:20251015T203000
DTEND;TZID=America/Halifax:20251015T235900
DTSTAMP:20260419T121753
CREATED:20251013T001043Z
LAST-MODIFIED:20251020T012038Z
UID:3012-1760560200-1760572740@bargrez.cl
SUMMARY:Blues Jam Session\, 15 de octubre
DESCRIPTION:Anfitrión Jano Letelier y Bando \n\nAlvaro Vildosola\, Bajo\nPablo Aracena Batería
URL:https://bargrez.cl/event/blues-jam-session-15-de-octubre/
LOCATION:Bar Grez\, Dr. Manuel Barros Borgoño 81\, Santiago\, Chile
CATEGORIES:Blues
ATTACH;FMTTYPE=image/jpeg:https://bargrez.cl/wp-content/uploads/2025/10/1015.jpeg
END:VEVENT
BEGIN:VEVENT
DTSTART;TZID=America/Halifax:20251016T203000
DTEND;TZID=America/Halifax:20251016T235900
DTSTAMP:20260419T121753
CREATED:20251013T001340Z
LAST-MODIFIED:20251013T001340Z
UID:3014-1760646600-1760659140@bargrez.cl
SUMMARY:Ale Mendez en vivo\, 16 de octubre
DESCRIPTION:Este martes 16 de octubre en Bar Grez\, la casa del blues en Chile\, Ale Mendez lanza su tercer disco «Estación Terminal».\nEn esta ocasión\, estará acompañado por el «Té para Tres Ensamble» en una noche inolvidable y llena de sorpresas. \nEntradas disponibles en Portaltickets
URL:https://bargrez.cl/event/ale-mendez-en-vivo-16-de-octubre/
LOCATION:Bar Grez\, Dr. Manuel Barros Borgoño 81\, Santiago\, Chile
CATEGORIES:Blues
ATTACH;FMTTYPE=image/jpeg:https://bargrez.cl/wp-content/uploads/2025/10/1016.jpeg
END:VEVENT
BEGIN:VEVENT
DTSTART;TZID=America/Halifax:20251018T213000
DTEND;TZID=America/Halifax:20251018T235900
DTSTAMP:20260419T121753
CREATED:20251013T002050Z
LAST-MODIFIED:20251013T002050Z
UID:3019-1760823000-1760831940@bargrez.cl
SUMMARY:Catoni Blues Band\, 18 de octubre
DESCRIPTION:CARLOS CATONI\, VOZ\nJM CARRASCO\, GUITARRA\nMATÍAS ROSSEL\, ARMONICA\nRENATO FERNANDEZ\, BAJO\nFELIPE ACUNA\, BATERIA
URL:https://bargrez.cl/event/catoni-blues-band-18-de-octubre/
LOCATION:Bar Grez\, Dr. Manuel Barros Borgoño 81\, Santiago\, Chile
CATEGORIES:Blues
ATTACH;FMTTYPE=image/jpeg:https://bargrez.cl/wp-content/uploads/2025/10/1018.jpeg
END:VEVENT
BEGIN:VEVENT
DTSTART;TZID=America/Halifax:20251022T203000
DTEND;TZID=America/Halifax:20251022T235900
DTSTAMP:20260419T121753
CREATED:20251020T012017Z
LAST-MODIFIED:20251020T012017Z
UID:3030-1761165000-1761177540@bargrez.cl
SUMMARY:Blues Jam Session\, 22 de octubre
DESCRIPTION:Anfitrión Jano Letelier y Bando \n\nAlvaro Vildosola\, Bajo\nPablo Aracena Batería
URL:https://bargrez.cl/event/blues-jam-session-22-de-octubre/
LOCATION:Bar Grez\, Dr. Manuel Barros Borgoño 81\, Santiago\, Chile
CATEGORIES:Blues
ATTACH;FMTTYPE=image/jpeg:https://bargrez.cl/wp-content/uploads/2025/10/1022.jpeg
END:VEVENT
BEGIN:VEVENT
DTSTART;TZID=America/Halifax:20251029T203000
DTEND;TZID=America/Halifax:20251029T235900
DTSTAMP:20260419T121753
CREATED:20251027T000926Z
LAST-MODIFIED:20251027T000926Z
UID:3051-1761769800-1761782340@bargrez.cl
SUMMARY:Blues Jam Session\, 29 de octubre
DESCRIPTION:Anfitrión Jano Letelier y Bando \n\nAlvaro Vildosola\, Bajo\nPablo Aracena Batería
URL:https://bargrez.cl/event/blues-jam-session-29-de-octubre/
LOCATION:Bar Grez\, Dr. Manuel Barros Borgoño 81\, Santiago\, Chile
CATEGORIES:Blues
ATTACH;FMTTYPE=image/jpeg:https://bargrez.cl/wp-content/uploads/2025/10/1029.jpeg
END:VEVENT
BEGIN:VEVENT
DTSTART;TZID=America/Halifax:20251030T213000
DTEND;TZID=America/Halifax:20251030T235900
DTSTAMP:20260419T121753
CREATED:20251027T001130Z
LAST-MODIFIED:20251027T001144Z
UID:3053-1761859800-1761868740@bargrez.cl
SUMMARY:Bluseros Muertos\, 30 octubre
DESCRIPTION:DÉJALO IR\, YA ES TIEMPO DE RENACER \nLos Bluseros Muertos están de cumpleaños y lo van a celebrar en su casa\,el Bar Grez… \nYa queda poco para que cumplan 30 años!!!\nQué mas te podemos decir… solo que vengas a vivir con nosotros una noche mágica y sanadora. \nDe sorpresa llevan un invitado de lujo…. \nEvento para todas las edades. \nEntradas disponibles en Portaltickets
URL:https://bargrez.cl/event/bluseros-muertos-30-octubre/
LOCATION:Bar Grez\, Dr. Manuel Barros Borgoño 81\, Santiago\, Chile
CATEGORIES:Blues
ATTACH;FMTTYPE=image/jpeg:https://bargrez.cl/wp-content/uploads/2025/10/1030.jpeg
END:VEVENT
BEGIN:VEVENT
DTSTART;TZID=America/Halifax:20251031T213000
DTEND;TZID=America/Halifax:20251031T235900
DTSTAMP:20260419T121753
CREATED:20251027T001423Z
LAST-MODIFIED:20251027T001423Z
UID:3055-1761946200-1761955140@bargrez.cl
SUMMARY:Mayi Vásquez & the Jumpin' Jacks\, 31 octubre
DESCRIPTION:Mati Vásquez & The Jumpin’ Jacks es una Banda de Blues\, Swing\, Rythm n Blues y Jump Blues.\nVamos a viajar por un repertorio con temas propios y clásicos estilo 50’s. \nIntegrantes:\nMati Vásquez – voz y guitarra\nMatías Alderete – guitarra\nRenato Fernández – bajo\nNicolás Pozo – batería \nEntradas en Portaltickets
URL:https://bargrez.cl/event/mayi-vasquez-the-jumpin-jacks-31-octubre/
LOCATION:Bar Grez\, Dr. Manuel Barros Borgoño 81\, Santiago\, Chile
CATEGORIES:Blues
ATTACH;FMTTYPE=image/jpeg:https://bargrez.cl/wp-content/uploads/2025/10/1031.jpeg
END:VEVENT
BEGIN:VEVENT
DTSTART;TZID=America/Halifax:20251101T213000
DTEND;TZID=America/Halifax:20251101T235900
DTSTAMP:20260419T121753
CREATED:20251027T002744Z
LAST-MODIFIED:20251027T002744Z
UID:3057-1762032600-1762041540@bargrez.cl
SUMMARY:Trio Valentin\, especial halloween\, 01 de noviembre
DESCRIPTION:«Trio Valentin» es el nombre que los miembros de EL CRUCE\, Felipe Toro\, Negro Silva y Jorge Quinteros\, le dieron a esta espontánea formación en la que recrean las canciones de sus bandas favoritas\, en covers libres y llenos de magia e improvisación. Led Zeppelin\, Grand Funk\, Jimi Hendrix\, Deep Purple\, Eric Clapton\, entre muchos otros dioses del rock clásico y el blues\, suenan frescos y poderosos en la interpretación de estos experimentados músicos y amigos. \nFelipe Toro: Vocalista y líder de la banda chilena de rock y blues El Cruce\, con más de 25 años de trayectoria musical. También conocido por sus otros proyectos como Bluesesque y Sangre de Toro\n.\nJorge Quinteros:Baterista fundador de El Cruce\, conocido como uno de los mejores bateristas de blues de Chile\, destacando su reciente participación en el circuito de Chicago\, incluyendo la grabación de una canción para el legendario sello Denmark Records de Chicago en Julio de 2025. \nEduardo «Negro» Silva: Músico chileno\, productor musical y virtuoso del bajo eléctrico\, destacado por su amplia trayectoria principalmente desarrollada junto a El Cruce y Joe Vasconellos. \nEntradas disponibles en Portaltickets
URL:https://bargrez.cl/event/trio-valentin-especial-halloween-01-de-noviembre/
LOCATION:Bar Grez\, Dr. Manuel Barros Borgoño 81\, Santiago\, Chile
CATEGORIES:Blues
ATTACH;FMTTYPE=image/jpeg:https://bargrez.cl/wp-content/uploads/2025/10/1101.jpeg
END:VEVENT
BEGIN:VEVENT
DTSTART;TZID=America/Halifax:20251105T203000
DTEND;TZID=America/Halifax:20251105T235900
DTSTAMP:20260419T121753
CREATED:20251101T150711Z
LAST-MODIFIED:20251101T150711Z
UID:3071-1762374600-1762387140@bargrez.cl
SUMMARY:Blues Jam Session\, 5 de noviembre
DESCRIPTION:Anfitrión: Sebastian Arriagada y Banda
URL:https://bargrez.cl/event/blues-jam-session-5-de-noviembre/
LOCATION:Bar Grez\, Dr. Manuel Barros Borgoño 81\, Santiago\, Chile
CATEGORIES:Blues
ATTACH;FMTTYPE=image/jpeg:https://bargrez.cl/wp-content/uploads/2025/11/1105.jpeg
END:VEVENT
BEGIN:VEVENT
DTSTART;TZID=America/Halifax:20251106T210000
DTEND;TZID=America/Halifax:20251106T235900
DTSTAMP:20260419T121753
CREATED:20251104T031332Z
LAST-MODIFIED:20251104T031332Z
UID:3073-1762462800-1762473540@bargrez.cl
SUMMARY:Felipe Toro Blues trio\, 6 de noviembre
DESCRIPTION:FELIPE TORO\, GUITARRA/VOZ\nSAMY MALUENDA\, BAJO\nJORGE QUINTEROS\, BATERÍA
URL:https://bargrez.cl/event/felipe-toro-blues-trio-6-de-noviembre/
LOCATION:Bar Grez\, Dr. Manuel Barros Borgoño 81\, Santiago\, Chile
CATEGORIES:Blues
ATTACH;FMTTYPE=image/jpeg:https://bargrez.cl/wp-content/uploads/2025/11/1106.jpeg
END:VEVENT
BEGIN:VEVENT
DTSTART;TZID=America/Halifax:20251107T213000
DTEND;TZID=America/Halifax:20251107T235900
DTSTAMP:20260419T121753
CREATED:20251104T031650Z
LAST-MODIFIED:20251104T031650Z
UID:3075-1762551000-1762559940@bargrez.cl
SUMMARY:the Blues Swingers\, 7 de noviembre
DESCRIPTION:Con una carrera de más de 20 años y nueve álbumes en su haber\, los blues swingers son un pilar en la creciente escena del Blues Chileno. Su particular marca de Blues revisita y expande las diferentes ramas del género\, particularmente los sonidos que surgieron de Chicago\, Memphis\, Texas y Los Angeles durante los 40´s\, 50´s\, y 60´s. Sin embargo\, estos sonidos clásicos solo actúan como inspiración para las propias composiciones de la banda\, ya que sus shows y grabaciones generalmente consisten en su mayoría en material original.\nToda la música de los swingers está disponible en la mayoría de las plataformas digitales.\nDisfruta su show este viernes 07 de noviembre en Grez restaurante.\nBanda:\nWernekinck – Guitarra y Voz. Iost\, Armónica y coros.\nMoraga\, Bajo y coros.\nGrez Batería y coros \nEntradas disponibles en Portaltickets
URL:https://bargrez.cl/event/the-blues-swingers-7-de-noviembre/
LOCATION:Bar Grez\, Dr. Manuel Barros Borgoño 81\, Santiago\, Chile
CATEGORIES:Blues
ATTACH;FMTTYPE=image/jpeg:https://bargrez.cl/wp-content/uploads/2025/11/1107.jpeg
END:VEVENT
BEGIN:VEVENT
DTSTART;TZID=America/Halifax:20251112T203000
DTEND;TZID=America/Halifax:20251112T235900
DTSTAMP:20260419T121753
CREATED:20251109T234413Z
LAST-MODIFIED:20251109T234413Z
UID:3090-1762979400-1762991940@bargrez.cl
SUMMARY:Blues Jam Session\, 12 de noviembre
DESCRIPTION:Anfitrión: Sebastian Arriagada y Banda
URL:https://bargrez.cl/event/blues-jam-session-12-de-noviembre/
LOCATION:Bar Grez\, Dr. Manuel Barros Borgoño 81\, Santiago\, Chile
CATEGORIES:Blues
ATTACH;FMTTYPE=image/jpeg:https://bargrez.cl/wp-content/uploads/2025/11/1112.jpeg
END:VEVENT
BEGIN:VEVENT
DTSTART;TZID=America/Halifax:20251115T213000
DTEND;TZID=America/Halifax:20251115T235900
DTSTAMP:20260419T121753
CREATED:20251110T005156Z
LAST-MODIFIED:20251110T005156Z
UID:3096-1763242200-1763251140@bargrez.cl
SUMMARY:British Blues Baraja & Gumucio + invitado estelar\, 15 de noviembre
DESCRIPTION:Baraja y Gumucio: British Blues – Un homenaje al alma del blues británico en Bar Grez\nEl próximo sábado 15 de noviembre a las 21:30 hrs\, el escenario del Bar Grez (Dr. Barros Borgoño 81) —reconocido como la casa del blues en Santiago— se llenará de historia y emoción con el concierto “Baraja y Gumucio: British Blues”.\nEl proyecto reúne a Tomás Gumucio y Bernardo Baraja\, dos destacados guitarristas de la escena bluesera chilena\, en un homenaje al blues británico de los años sesenta\, con especial atención al legado de John Mayall & The Bluesbreakers en sus icónicas etapas junto a Eric Clapton y Peter Green.\nCon un repertorio cuidadosamente seleccionado y una búsqueda sonora fiel a la época\, la banda promete una experiencia auténtica que transportará al público a los días dorados del blues eléctrico inglés.\nEl grupo se completa con Gonzalo Araya en armónica\, Cristián Aldunate en bajo eléctrico\, Pablo Aracena en batería y Felipe Roja en teclados\, además de un invitado especial que aportará una cuota extra de sorpresa y energía. \nEntradas disponibles en Portaltickets
URL:https://bargrez.cl/event/british-blues-baraja-gumucio-invitado-estelar-15-de-noviembre/
LOCATION:Bar Grez\, Dr. Manuel Barros Borgoño 81\, Santiago\, Chile
CATEGORIES:Blues
ATTACH;FMTTYPE=image/jpeg:https://bargrez.cl/wp-content/uploads/2025/11/1115.jpeg
END:VEVENT
BEGIN:VEVENT
DTSTART;TZID=America/Halifax:20251119T203000
DTEND;TZID=America/Halifax:20251119T235900
DTSTAMP:20260419T121753
CREATED:20251116T225626Z
LAST-MODIFIED:20251116T225651Z
UID:3117-1763584200-1763596740@bargrez.cl
SUMMARY:Blues Jam Session\, 19 de noviembre
DESCRIPTION:Anfitrión: Sebastian Arriagada y Banda
URL:https://bargrez.cl/event/blues-jam-session-19-de-noviembre/
LOCATION:Bar Grez\, Dr. Manuel Barros Borgoño 81\, Santiago\, Chile
CATEGORIES:Blues
ATTACH;FMTTYPE=image/jpeg:https://bargrez.cl/wp-content/uploads/2025/11/1119.jpeg
END:VEVENT
BEGIN:VEVENT
DTSTART;TZID=America/Halifax:20251126T203000
DTEND;TZID=America/Halifax:20251126T235900
DTSTAMP:20260419T121753
CREATED:20251116T225719Z
LAST-MODIFIED:20251116T225719Z
UID:3119-1764189000-1764201540@bargrez.cl
SUMMARY:Blues Jam Session\, 26 de noviembre
DESCRIPTION:Anfitrión: Sebastian Arriagada y Banda
URL:https://bargrez.cl/event/blues-jam-session-26-de-noviembre/
LOCATION:Bar Grez\, Dr. Manuel Barros Borgoño 81\, Santiago\, Chile
CATEGORIES:Blues
ATTACH;FMTTYPE=image/jpeg:https://bargrez.cl/wp-content/uploads/2025/11/1126.jpeg
END:VEVENT
BEGIN:VEVENT
DTSTART;TZID=America/Halifax:20251203T203000
DTEND;TZID=America/Halifax:20251203T235900
DTSTAMP:20260419T121753
CREATED:20251201T132029Z
LAST-MODIFIED:20251201T132029Z
UID:3146-1764793800-1764806340@bargrez.cl
SUMMARY:Blues Jam Session\, 3 de diciembre
DESCRIPTION:ANFITRIONES: THE BLUES RIDERS \nINVITADO: DESDE COLOMBIA \,ANDRÉS OSORIO EN GUITARRA
URL:https://bargrez.cl/event/blues-jam-session-3-de-diciembre/
LOCATION:Bar Grez\, Dr. Manuel Barros Borgoño 81\, Santiago\, Chile
CATEGORIES:Blues
ATTACH;FMTTYPE=image/jpeg:https://bargrez.cl/wp-content/uploads/2025/12/1203.jpeg
END:VEVENT
END:VCALENDAR