BEGIN:VCALENDAR
VERSION:2.0
PRODID:-// - ECPv6.5.0.1//NONSGML v1.0//EN
CALSCALE:GREGORIAN
METHOD:PUBLISH
X-ORIGINAL-URL:https://bargrez.cl
X-WR-CALDESC:Eventos para 
REFRESH-INTERVAL;VALUE=DURATION:PT1H
X-Robots-Tag:noindex
X-PUBLISHED-TTL:PT1H
BEGIN:VTIMEZONE
TZID:America/Halifax
BEGIN:DAYLIGHT
TZOFFSETFROM:-0400
TZOFFSETTO:-0300
TZNAME:ADT
DTSTART:20250309T060000
END:DAYLIGHT
BEGIN:STANDARD
TZOFFSETFROM:-0300
TZOFFSETTO:-0400
TZNAME:AST
DTSTART:20251102T050000
END:STANDARD
BEGIN:DAYLIGHT
TZOFFSETFROM:-0400
TZOFFSETTO:-0300
TZNAME:ADT
DTSTART:20260308T060000
END:DAYLIGHT
BEGIN:STANDARD
TZOFFSETFROM:-0300
TZOFFSETTO:-0400
TZNAME:AST
DTSTART:20261101T050000
END:STANDARD
END:VTIMEZONE
BEGIN:VEVENT
DTSTART;TZID=America/Halifax:20251107T213000
DTEND;TZID=America/Halifax:20251107T235900
DTSTAMP:20260419T143944
CREATED:20251104T031650Z
LAST-MODIFIED:20251104T031650Z
UID:3075-1762551000-1762559940@bargrez.cl
SUMMARY:the Blues Swingers\, 7 de noviembre
DESCRIPTION:Con una carrera de más de 20 años y nueve álbumes en su haber\, los blues swingers son un pilar en la creciente escena del Blues Chileno. Su particular marca de Blues revisita y expande las diferentes ramas del género\, particularmente los sonidos que surgieron de Chicago\, Memphis\, Texas y Los Angeles durante los 40´s\, 50´s\, y 60´s. Sin embargo\, estos sonidos clásicos solo actúan como inspiración para las propias composiciones de la banda\, ya que sus shows y grabaciones generalmente consisten en su mayoría en material original.\nToda la música de los swingers está disponible en la mayoría de las plataformas digitales.\nDisfruta su show este viernes 07 de noviembre en Grez restaurante.\nBanda:\nWernekinck – Guitarra y Voz. Iost\, Armónica y coros.\nMoraga\, Bajo y coros.\nGrez Batería y coros \nEntradas disponibles en Portaltickets
URL:https://bargrez.cl/event/the-blues-swingers-7-de-noviembre/
LOCATION:Bar Grez\, Dr. Manuel Barros Borgoño 81\, Santiago\, Chile
CATEGORIES:Blues
ATTACH;FMTTYPE=image/jpeg:https://bargrez.cl/wp-content/uploads/2025/11/1107.jpeg
END:VEVENT
BEGIN:VEVENT
DTSTART;TZID=America/Halifax:20251112T203000
DTEND;TZID=America/Halifax:20251112T235900
DTSTAMP:20260419T143944
CREATED:20251109T234413Z
LAST-MODIFIED:20251109T234413Z
UID:3090-1762979400-1762991940@bargrez.cl
SUMMARY:Blues Jam Session\, 12 de noviembre
DESCRIPTION:Anfitrión: Sebastian Arriagada y Banda
URL:https://bargrez.cl/event/blues-jam-session-12-de-noviembre/
LOCATION:Bar Grez\, Dr. Manuel Barros Borgoño 81\, Santiago\, Chile
CATEGORIES:Blues
ATTACH;FMTTYPE=image/jpeg:https://bargrez.cl/wp-content/uploads/2025/11/1112.jpeg
END:VEVENT
BEGIN:VEVENT
DTSTART;TZID=America/Halifax:20251115T213000
DTEND;TZID=America/Halifax:20251115T235900
DTSTAMP:20260419T143944
CREATED:20251110T005156Z
LAST-MODIFIED:20251110T005156Z
UID:3096-1763242200-1763251140@bargrez.cl
SUMMARY:British Blues Baraja & Gumucio + invitado estelar\, 15 de noviembre
DESCRIPTION:Baraja y Gumucio: British Blues – Un homenaje al alma del blues británico en Bar Grez\nEl próximo sábado 15 de noviembre a las 21:30 hrs\, el escenario del Bar Grez (Dr. Barros Borgoño 81) —reconocido como la casa del blues en Santiago— se llenará de historia y emoción con el concierto “Baraja y Gumucio: British Blues”.\nEl proyecto reúne a Tomás Gumucio y Bernardo Baraja\, dos destacados guitarristas de la escena bluesera chilena\, en un homenaje al blues británico de los años sesenta\, con especial atención al legado de John Mayall & The Bluesbreakers en sus icónicas etapas junto a Eric Clapton y Peter Green.\nCon un repertorio cuidadosamente seleccionado y una búsqueda sonora fiel a la época\, la banda promete una experiencia auténtica que transportará al público a los días dorados del blues eléctrico inglés.\nEl grupo se completa con Gonzalo Araya en armónica\, Cristián Aldunate en bajo eléctrico\, Pablo Aracena en batería y Felipe Roja en teclados\, además de un invitado especial que aportará una cuota extra de sorpresa y energía. \nEntradas disponibles en Portaltickets
URL:https://bargrez.cl/event/british-blues-baraja-gumucio-invitado-estelar-15-de-noviembre/
LOCATION:Bar Grez\, Dr. Manuel Barros Borgoño 81\, Santiago\, Chile
CATEGORIES:Blues
ATTACH;FMTTYPE=image/jpeg:https://bargrez.cl/wp-content/uploads/2025/11/1115.jpeg
END:VEVENT
BEGIN:VEVENT
DTSTART;TZID=America/Halifax:20251119T203000
DTEND;TZID=America/Halifax:20251119T235900
DTSTAMP:20260419T143944
CREATED:20251116T225626Z
LAST-MODIFIED:20251116T225651Z
UID:3117-1763584200-1763596740@bargrez.cl
SUMMARY:Blues Jam Session\, 19 de noviembre
DESCRIPTION:Anfitrión: Sebastian Arriagada y Banda
URL:https://bargrez.cl/event/blues-jam-session-19-de-noviembre/
LOCATION:Bar Grez\, Dr. Manuel Barros Borgoño 81\, Santiago\, Chile
CATEGORIES:Blues
ATTACH;FMTTYPE=image/jpeg:https://bargrez.cl/wp-content/uploads/2025/11/1119.jpeg
END:VEVENT
BEGIN:VEVENT
DTSTART;TZID=America/Halifax:20251126T203000
DTEND;TZID=America/Halifax:20251126T235900
DTSTAMP:20260419T143944
CREATED:20251116T225719Z
LAST-MODIFIED:20251116T225719Z
UID:3119-1764189000-1764201540@bargrez.cl
SUMMARY:Blues Jam Session\, 26 de noviembre
DESCRIPTION:Anfitrión: Sebastian Arriagada y Banda
URL:https://bargrez.cl/event/blues-jam-session-26-de-noviembre/
LOCATION:Bar Grez\, Dr. Manuel Barros Borgoño 81\, Santiago\, Chile
CATEGORIES:Blues
ATTACH;FMTTYPE=image/jpeg:https://bargrez.cl/wp-content/uploads/2025/11/1126.jpeg
END:VEVENT
BEGIN:VEVENT
DTSTART;TZID=America/Halifax:20251203T203000
DTEND;TZID=America/Halifax:20251203T235900
DTSTAMP:20260419T143944
CREATED:20251201T132029Z
LAST-MODIFIED:20251201T132029Z
UID:3146-1764793800-1764806340@bargrez.cl
SUMMARY:Blues Jam Session\, 3 de diciembre
DESCRIPTION:ANFITRIONES: THE BLUES RIDERS \nINVITADO: DESDE COLOMBIA \,ANDRÉS OSORIO EN GUITARRA
URL:https://bargrez.cl/event/blues-jam-session-3-de-diciembre/
LOCATION:Bar Grez\, Dr. Manuel Barros Borgoño 81\, Santiago\, Chile
CATEGORIES:Blues
ATTACH;FMTTYPE=image/jpeg:https://bargrez.cl/wp-content/uploads/2025/12/1203.jpeg
END:VEVENT
BEGIN:VEVENT
DTSTART;TZID=America/Halifax:20251206T213000
DTEND;TZID=America/Halifax:20251206T235900
DTSTAMP:20260419T143944
CREATED:20251206T123527Z
LAST-MODIFIED:20251206T123527Z
UID:3150-1765056600-1765065540@bargrez.cl
SUMMARY:Homenaje a Muddy Waters\, 6 de dicembre
DESCRIPTION:Muddy Waters Vive: Homenaje Chileno al Rey del Chicago Blues \nUna selección de destacados músicos chilenos se reúne para celebrar la obra de uno de los nombres más grandes en la historia del blues: Muddy Waters. Sobre el escenario\, Tomás Gumucio\, Ringo Guitar\, Cristián Aldunate\, Pablo Aracena y Gonzalo Araya darán vida a un repertorio que busca capturar la potencia\, el swing y la atmósfera inconfundible del sonido de Chicago. \nEste tributo no es solo un concierto: es un acto de devoción. Nuestra intención es honrar el legado de Muddy Waters reproduciendo la esencia de su música de la forma más fiel posible\, respetando su tono\, su groove y ese espíritu inquebrantable que definió a generaciones enteras de músicos. \nUna noche para los amantes del blues de verdad. Pura tradición\, pura electricidad y pura alma. \nEntradas disponibles en Portaltickets
URL:https://bargrez.cl/event/homenaje-a-muddy-waters-6-de-dicembre/
LOCATION:Bar Grez\, Dr. Manuel Barros Borgoño 81\, Santiago\, Chile
CATEGORIES:Blues
ATTACH;FMTTYPE=image/jpeg:https://bargrez.cl/wp-content/uploads/2025/12/1206.jpeg
END:VEVENT
BEGIN:VEVENT
DTSTART;TZID=America/Halifax:20251208T203000
DTEND;TZID=America/Halifax:20251208T235900
DTSTAMP:20260419T143944
CREATED:20251208T002817Z
LAST-MODIFIED:20251208T002817Z
UID:3161-1765225800-1765238340@bargrez.cl
SUMMARY:Homenaje a Robert Johnson\, Rey del Delta Blues\, 8 de diciembre
DESCRIPTION:FELIPE TORO – GUITARRA Y VOZ.\nNICOLÁS WERNEKINCK GUITARRA Y VOZ.
URL:https://bargrez.cl/event/homenaje-a-robert-johnson-rey-del-delta-blues-8-de-diciembre/
LOCATION:Bar Grez\, Dr. Manuel Barros Borgoño 81\, Santiago\, Chile
CATEGORIES:Blues
ATTACH;FMTTYPE=image/jpeg:https://bargrez.cl/wp-content/uploads/2025/12/1208.jpeg
END:VEVENT
BEGIN:VEVENT
DTSTART;TZID=America/Halifax:20251210T203000
DTEND;TZID=America/Halifax:20251210T235900
DTSTAMP:20260419T143944
CREATED:20251208T003036Z
LAST-MODIFIED:20251208T003036Z
UID:3165-1765398600-1765411140@bargrez.cl
SUMMARY:Blues Jam Session\, 10 de diciembre
DESCRIPTION:ANFITRIONES: THE BLUES RIDERS \nINVITADO ESTELAR: NICOLAS WERNEKINCK EN GUITARRA Y VOZ
URL:https://bargrez.cl/event/blues-jam-session-10-de-diciembre/
LOCATION:Bar Grez\, Dr. Manuel Barros Borgoño 81\, Santiago\, Chile
CATEGORIES:Blues
ATTACH;FMTTYPE=image/jpeg:https://bargrez.cl/wp-content/uploads/2025/12/1210.jpeg
END:VEVENT
BEGIN:VEVENT
DTSTART;TZID=America/Halifax:20251211T210000
DTEND;TZID=America/Halifax:20251211T235900
DTSTAMP:20260419T143944
CREATED:20251208T003253Z
LAST-MODIFIED:20251208T003253Z
UID:3167-1765486800-1765497540@bargrez.cl
SUMMARY:Divas y Blues\, 11 de diciembre
DESCRIPTION:CUATRO VOCES\, UN SENTIMIENTO \n\nANDREA «LA NEGRA» RODRIGUEZ\nROXEN BLUES\nKAREN BROWN\nFURRONDA COUNT\n\nBANDA ANFITRIONA BOHEMIAN BAND \nRESERVAS EXCLUSIVAS AL +56958122917
URL:https://bargrez.cl/event/divas-y-blues-11-de-diciembre/
LOCATION:Bar Grez\, Dr. Manuel Barros Borgoño 81\, Santiago\, Chile
CATEGORIES:Blues
ATTACH;FMTTYPE=image/jpeg:https://bargrez.cl/wp-content/uploads/2025/12/1211.jpeg
END:VEVENT
BEGIN:VEVENT
DTSTART;TZID=America/Halifax:20251213T213000
DTEND;TZID=America/Halifax:20251213T235900
DTSTAMP:20260419T143944
CREATED:20251208T003907Z
LAST-MODIFIED:20251208T003907Z
UID:3172-1765661400-1765670340@bargrez.cl
SUMMARY:Celebración 100 años de BB King\, 13 de diciembre
DESCRIPTION:Celebración de los 100 años del rey del blues BB King\, última función del año. Luego de dos previas funciones con lleno total.\nSu anfitrión en la voz y guitarra es Jano Letelier\, uno de los músicos más destacados de la escena chilena del blues\, con más de 15 años de carrera tanto en Chile como el extranjero.\nAcompañado por una banda de sólidos músicos expertos en el género como «Ringo» Rodríguez y Jorge Quinteros\, artistas del sello Delmark Records de Chicago\, USA\nMás invitados emblemáticos del blues chileno como «Bluesman» Valenzuela (El Cruce)\, Nicolás Wernekink (The blues swingers) y otras sorpresas. \nEntradas disponibles en Portaltickets
URL:https://bargrez.cl/event/celebracion-100-anos-de-bb-king-13-de-diciembre/
LOCATION:Bar Grez\, Dr. Manuel Barros Borgoño 81\, Santiago\, Chile
CATEGORIES:Blues
ATTACH;FMTTYPE=image/jpeg:https://bargrez.cl/wp-content/uploads/2025/12/1213.jpeg
END:VEVENT
BEGIN:VEVENT
DTSTART;TZID=America/Halifax:20251217T203000
DTEND;TZID=America/Halifax:20251217T235900
DTSTAMP:20260419T143944
CREATED:20251215T004242Z
LAST-MODIFIED:20251215T004242Z
UID:3186-1766003400-1766015940@bargrez.cl
SUMMARY:Blues Jam Session\, 17 de diciembre
DESCRIPTION:ANFITRIONES: THE BLUES RIDERS \nINVITADO ESTELAR:\nRingo en Guitarra\nMati Hugo en Guitarra y Voz
URL:https://bargrez.cl/event/blues-jam-session-17-de-diciembre/
LOCATION:Bar Grez\, Dr. Manuel Barros Borgoño 81\, Santiago\, Chile
CATEGORIES:Blues
ATTACH;FMTTYPE=image/jpeg:https://bargrez.cl/wp-content/uploads/2025/12/1217.jpeg
END:VEVENT
BEGIN:VEVENT
DTSTART;TZID=America/Halifax:20251226T213000
DTEND;TZID=America/Halifax:20251226T235900
DTSTAMP:20260419T143944
CREATED:20251222T135640Z
LAST-MODIFIED:20251222T135640Z
UID:3205-1766784600-1766793540@bargrez.cl
SUMMARY:Max Drapela Full Band\, 26 de diciembre
DESCRIPTION:MAX DRAPELA\, VOZ Y GUITARRA.\nMATÍAS HUGO\, BAJO.\nRAÚL RAMOS\, BATERÍA.\nFELIPE ROJAS\, TECLADO.
URL:https://bargrez.cl/event/max-drapela-full-band-26-de-diciembre/
LOCATION:Bar Grez\, Dr. Manuel Barros Borgoño 81\, Santiago\, Chile
CATEGORIES:Blues
ATTACH;FMTTYPE=image/jpeg:https://bargrez.cl/wp-content/uploads/2025/12/1226.jpeg
END:VEVENT
BEGIN:VEVENT
DTSTART;TZID=America/Halifax:20251227T210000
DTEND;TZID=America/Halifax:20251227T235900
DTSTAMP:20260419T143944
CREATED:20251222T135901Z
LAST-MODIFIED:20251222T135901Z
UID:3207-1766869200-1766879940@bargrez.cl
SUMMARY:Karen Brown "Blues and soul night"\, 27 de diciembre
DESCRIPTION:KAREN BROWN\, VOZ.\nCHRISTOPHER CUBILLOS\, BAJO.\nMATÍAS ALDERETE\, GUITARRA.\nFELIPE ESPINOZA\, BATERÍA.\nEDGARDO PARRAGUEZ\, PIANO.
URL:https://bargrez.cl/event/karen-brown-blues-and-soul-night-27-de-diciembre/
LOCATION:Bar Grez\, Dr. Manuel Barros Borgoño 81\, Santiago\, Chile
CATEGORIES:Blues,Soul
ATTACH;FMTTYPE=image/jpeg:https://bargrez.cl/wp-content/uploads/2025/12/1227.jpeg
END:VEVENT
BEGIN:VEVENT
DTSTART;TZID=America/Halifax:20251229T203000
DTEND;TZID=America/Halifax:20251229T235900
DTSTAMP:20260419T143944
CREATED:20251229T124314Z
LAST-MODIFIED:20251229T124314Z
UID:3214-1767040200-1767052740@bargrez.cl
SUMMARY:Blues Partners\, 29 de diciembre
DESCRIPTION:Mel\, voz\nÁlvaro\,  bajo & autor\nSergio\, armónica\nMolaki\, teclado\nManolo\, Batería\n\n 
URL:https://bargrez.cl/event/blues-partners-29-de-diciembre/
LOCATION:Bar Grez\, Dr. Manuel Barros Borgoño 81\, Santiago\, Chile
CATEGORIES:Blues
ATTACH;FMTTYPE=image/jpeg:https://bargrez.cl/wp-content/uploads/2025/12/1229.jpeg
END:VEVENT
BEGIN:VEVENT
DTSTART;TZID=America/Halifax:20260103T213000
DTEND;TZID=America/Halifax:20260103T235900
DTSTAMP:20260419T143944
CREATED:20251229T124754Z
LAST-MODIFIED:20251229T124754Z
UID:3220-1767475800-1767484740@bargrez.cl
SUMMARY:JM Carrasco blues Band\, 3 de enero
DESCRIPTION:
URL:https://bargrez.cl/event/jm-carrasco-blues-band-3-de-enero/
LOCATION:Bar Grez\, Dr. Manuel Barros Borgoño 81\, Santiago\, Chile
CATEGORIES:Blues
ATTACH;FMTTYPE=image/jpeg:https://bargrez.cl/wp-content/uploads/2025/12/0103.jpeg
END:VEVENT
BEGIN:VEVENT
DTSTART;TZID=America/Halifax:20260107T203000
DTEND;TZID=America/Halifax:20260107T235900
DTSTAMP:20260419T143944
CREATED:20260104T213844Z
LAST-MODIFIED:20260104T213844Z
UID:3230-1767817800-1767830340@bargrez.cl
SUMMARY:Blues Jam Session\, 07 de enero
DESCRIPTION:Anfitrión: Matias Alderete y banda
URL:https://bargrez.cl/event/blues-jam-session-07-de-enero/
LOCATION:Bar Grez\, Dr. Manuel Barros Borgoño 81\, Santiago\, Chile
CATEGORIES:Blues
ATTACH;FMTTYPE=image/jpeg:https://bargrez.cl/wp-content/uploads/2026/01/0107.jpeg
END:VEVENT
BEGIN:VEVENT
DTSTART;TZID=America/Halifax:20260114T203000
DTEND;TZID=America/Halifax:20260114T235900
DTSTAMP:20260419T143944
CREATED:20260112T144117Z
LAST-MODIFIED:20260112T144117Z
UID:3249-1768422600-1768435140@bargrez.cl
SUMMARY:Blues Jam Session\, 14 de enero
DESCRIPTION:Anfitrión: Matias Alderete y banda
URL:https://bargrez.cl/event/blues-jam-session-14-de-enero/
LOCATION:Bar Grez\, Dr. Manuel Barros Borgoño 81\, Santiago\, Chile
CATEGORIES:Blues
ATTACH;FMTTYPE=image/jpeg:https://bargrez.cl/wp-content/uploads/2026/01/0114.jpeg
END:VEVENT
BEGIN:VEVENT
DTSTART;TZID=America/Halifax:20260115T210000
DTEND;TZID=America/Halifax:20260115T235900
DTSTAMP:20260419T143944
CREATED:20260112T144256Z
LAST-MODIFIED:20260112T144256Z
UID:3251-1768510800-1768521540@bargrez.cl
SUMMARY:Morgan Vudú Queen blues & Rock\, 15 de enero
DESCRIPTION:MORGAN VUDÚ QUEEN\, VOZ\nJM CARRASCO\, GUITARRA\nDANIEL ARDILES\, BAJO\nJP JARAMILLO\, BATERÍA\nFELIPE SILVA\, TECLADO
URL:https://bargrez.cl/event/morgan-vudu-queen-blues-rock-15-de-enero/
LOCATION:Bar Grez\, Dr. Manuel Barros Borgoño 81\, Santiago\, Chile
CATEGORIES:Blues,Música en vivo,Rock show
ATTACH;FMTTYPE=image/jpeg:https://bargrez.cl/wp-content/uploads/2026/01/0115.jpeg
END:VEVENT
BEGIN:VEVENT
DTSTART;TZID=America/Halifax:20260117T213000
DTEND;TZID=America/Halifax:20260117T235900
DTSTAMP:20260419T143944
CREATED:20260112T150258Z
LAST-MODIFIED:20260112T150733Z
UID:3255-1768685400-1768694340@bargrez.cl
SUMMARY:Catoni Blues Band\, 17 de enero
DESCRIPTION:CARLOS CATONI\, VOZ\nJM CARRASCO\, GUITARRA\nMATÍAS ROSSEL\, ARMÓNICA\nRENATO FERNANDEZ\, BAJO\nFELIPE ACUÑA\, BATERÍA
URL:https://bargrez.cl/event/catoni-blues-band-17-de-enero/
LOCATION:Bar Grez\, Dr. Manuel Barros Borgoño 81\, Santiago\, Chile
CATEGORIES:Blues
ATTACH;FMTTYPE=image/jpeg:https://bargrez.cl/wp-content/uploads/2026/01/0117.jpeg
END:VEVENT
BEGIN:VEVENT
DTSTART;TZID=America/Halifax:20260121T203000
DTEND;TZID=America/Halifax:20260121T235900
DTSTAMP:20260419T143944
CREATED:20260119T134615Z
LAST-MODIFIED:20260119T134615Z
UID:3272-1769027400-1769039940@bargrez.cl
SUMMARY:Blues Jam Session\, 21 de enero
DESCRIPTION:Anfitrión: Matias Alderete y banda
URL:https://bargrez.cl/event/blues-jam-session-21-de-enero/
LOCATION:Bar Grez\, Dr. Manuel Barros Borgoño 81\, Santiago\, Chile
CATEGORIES:Blues
ATTACH;FMTTYPE=image/jpeg:https://bargrez.cl/wp-content/uploads/2026/01/0121.jpeg
END:VEVENT
BEGIN:VEVENT
DTSTART;TZID=America/Halifax:20260124T213000
DTEND;TZID=America/Halifax:20260124T235900
DTSTAMP:20260419T143944
CREATED:20260119T135450Z
LAST-MODIFIED:20260119T135510Z
UID:3278-1769290200-1769299140@bargrez.cl
SUMMARY:the Blues Swingers\, 24 de enero
DESCRIPTION:Con una carrera de más de 20 años y nueve álbumes en su haber\, los blues swingers son un pilar en la creciente escena del Blues Chileno. Su particular marca de Blues revisita y expande las diferentes ramas del género\, particularmente los sonidos que surgieron de Chicago\, Memphis\, Texas y Los Angeles durante los 40´s\, 50´s\, y 60´s. Sin embargo\, estos sonidos clásicos solo actúan como inspiración para las propias composiciones de la banda\, ya que sus shows y grabaciones generalmente consisten en su mayoría en material original.\nToda la música de los swingers está disponible en la mayoría de las plataformas digitales.\nDisfruta su show este 24 de enero en Grez restaurante.\nBanda:\nNICOLÁS WERNEKINCK\, GUITARRA Y VOZ\nBERNARDO BARAJA\, GUITARRA Y VOZ\nRENATO FERNANDEZ\, BAJO\nEDUARDO GREZ\, BATERIA
URL:https://bargrez.cl/event/the-blues-swingers-24-de-enero/
LOCATION:Bar Grez\, Dr. Manuel Barros Borgoño 81\, Santiago\, Chile
CATEGORIES:Blues
ATTACH;FMTTYPE=image/jpeg:https://bargrez.cl/wp-content/uploads/2026/01/0124.jpeg
END:VEVENT
BEGIN:VEVENT
DTSTART;TZID=America/Halifax:20260128T203000
DTEND;TZID=America/Halifax:20260128T235900
DTSTAMP:20260419T143944
CREATED:20260126T130408Z
LAST-MODIFIED:20260126T130408Z
UID:3291-1769632200-1769644740@bargrez.cl
SUMMARY:Blues Jam Session\, 28 de enero
DESCRIPTION:Anfitrión: Matias Alderete y banda
URL:https://bargrez.cl/event/blues-jam-session-28-de-enero/
LOCATION:Bar Grez\, Dr. Manuel Barros Borgoño 81\, Santiago\, Chile
CATEGORIES:Blues
ATTACH;FMTTYPE=image/jpeg:https://bargrez.cl/wp-content/uploads/2026/01/0128.jpeg
END:VEVENT
BEGIN:VEVENT
DTSTART;TZID=America/Halifax:20260130T213000
DTEND;TZID=America/Halifax:20260130T235900
DTSTAMP:20260419T143944
CREATED:20260126T185436Z
LAST-MODIFIED:20260126T185436Z
UID:3295-1769808600-1769817540@bargrez.cl
SUMMARY:Desde EE.UU.\, Armelle Delaney\, 30 de enero
DESCRIPTION:ARMELLE DELANEY\, VOZ\nJM CARRASCO\, GUITARRA\nFELIPE SILVA\, TECLADO\nRENATO FERNANDEZ\, BAJO\nRAUL RAMOS\, BATERIA
URL:https://bargrez.cl/event/desde-ee-uu-armelle-delaney-30-de-enero/
LOCATION:Bar Grez\, Dr. Manuel Barros Borgoño 81\, Santiago\, Chile
CATEGORIES:Blues,Jazz
ATTACH;FMTTYPE=image/jpeg:https://bargrez.cl/wp-content/uploads/2026/01/0130.jpeg
END:VEVENT
BEGIN:VEVENT
DTSTART;TZID=America/Halifax:20260131T213000
DTEND;TZID=America/Halifax:20260131T235900
DTSTAMP:20260419T143944
CREATED:20260126T185750Z
LAST-MODIFIED:20260126T185750Z
UID:3298-1769895000-1769903940@bargrez.cl
SUMMARY:Bluenote Quartet
DESCRIPTION:SILVANA «BIGMAMMA»\, VOZ\nPABLO CASTILLO\, PIANO\nEMILIANO TOBAR\, BAJO\nMAURICIO BALLERINES\, BATERIA\nINVITADOS ESPECIALES\nRAULCASTER\, GUITARRA\nDANIELA LUKSIC\, BAJO
URL:https://bargrez.cl/event/bluenote-quartet-4/
LOCATION:Bar Grez\, Dr. Manuel Barros Borgoño 81\, Santiago\, Chile
CATEGORIES:Blues,Jazz
ATTACH;FMTTYPE=image/jpeg:https://bargrez.cl/wp-content/uploads/2026/01/0131.jpeg
END:VEVENT
BEGIN:VEVENT
DTSTART;TZID=America/Halifax:20260204T203000
DTEND;TZID=America/Halifax:20260204T235900
DTSTAMP:20260419T143944
CREATED:20260201T234649Z
LAST-MODIFIED:20260201T234649Z
UID:3311-1770237000-1770249540@bargrez.cl
SUMMARY:Blues Jam Session \, 4 de febrero
DESCRIPTION:ANFITRIÓN PANCHO GARCÉS TRÍO \n\nBernardo Baraja\, Guitarra y voz\nDiego Vera\, bajo\nPancho Garcés\, Batería
URL:https://bargrez.cl/event/blues-jam-session-4-de-febrero/
LOCATION:Bar Grez\, Dr. Manuel Barros Borgoño 81\, Santiago\, Chile
CATEGORIES:Blues
ATTACH;FMTTYPE=image/jpeg:https://bargrez.cl/wp-content/uploads/2026/02/0204.jpg
END:VEVENT
BEGIN:VEVENT
DTSTART;TZID=America/Halifax:20260205T210000
DTEND;TZID=America/Halifax:20260205T210000
DTSTAMP:20260419T143944
CREATED:20260201T234902Z
LAST-MODIFIED:20260201T234902Z
UID:3313-1770325200-1770325200@bargrez.cl
SUMMARY:SUMMER IN THE CITY BB KING\, 5 de febrero
DESCRIPTION:Jano Letelier inicia este 2026 con un nuevo concierto luego de 3 exitosos shows el 2025 celebrando el centenario del rey del Blues BB KING.\nEn esta oportunidad el repertorio estará centrado en los 70s\, una de sus épocas más potentes. Por supuesto\, no faltarán los grandes clásicos.\nAcompañado por una banda de lujo e invitados sopresa \nEntradas a travez de Portaltickets
URL:https://bargrez.cl/event/summer-in-the-city-bb-king-5-de-febrero/
LOCATION:Bar Grez\, Dr. Manuel Barros Borgoño 81\, Santiago\, Chile
CATEGORIES:Blues
ATTACH;FMTTYPE=image/jpeg:https://bargrez.cl/wp-content/uploads/2026/02/0205.jpg
END:VEVENT
BEGIN:VEVENT
DTSTART;TZID=America/Halifax:20260211T203000
DTEND;TZID=America/Halifax:20260211T235900
DTSTAMP:20260419T143944
CREATED:20260208T222447Z
LAST-MODIFIED:20260208T222447Z
UID:3329-1770841800-1770854340@bargrez.cl
SUMMARY:Blues Jam Session \, 11 de febrero
DESCRIPTION:ANFITRIÓN PANCHO GARCÉS TRÍO \n\nBernardo Baraja\, Guitarra y voz\nDiego Vera\, bajo\nPancho Garcés\, Batería\n\nInvitado Felipe Pérez en Guitarra
URL:https://bargrez.cl/event/blues-jam-session-11-de-febrero/
LOCATION:Bar Grez\, Dr. Manuel Barros Borgoño 81\, Santiago\, Chile
CATEGORIES:Blues
ATTACH;FMTTYPE=image/jpeg:https://bargrez.cl/wp-content/uploads/2026/02/0211.jpg
END:VEVENT
BEGIN:VEVENT
DTSTART;TZID=America/Halifax:20260212T210000
DTEND;TZID=America/Halifax:20260212T235900
DTSTAMP:20260419T143944
CREATED:20260208T223830Z
LAST-MODIFIED:20260208T223830Z
UID:3331-1770930000-1770940740@bargrez.cl
SUMMARY:The Blues Riders feat Karen Brown\, 12 de febrero
DESCRIPTION:Invitado estelar Tomás Gumucio
URL:https://bargrez.cl/event/the-blues-riders-feat-karen-brown-12-de-febrero/
LOCATION:Bar Grez\, Dr. Manuel Barros Borgoño 81\, Santiago\, Chile
CATEGORIES:Blues
ATTACH;FMTTYPE=image/jpeg:https://bargrez.cl/wp-content/uploads/2026/02/0212.jpg
END:VEVENT
BEGIN:VEVENT
DTSTART;TZID=America/Halifax:20260218T203000
DTEND;TZID=America/Halifax:20260218T235900
DTSTAMP:20260419T143944
CREATED:20260216T012220Z
LAST-MODIFIED:20260216T012232Z
UID:3345-1771446600-1771459140@bargrez.cl
SUMMARY:Blues Jam Session \, 18 de febrero
DESCRIPTION:ANFITRIÓN PANCHO GARCÉS TRÍO \n\nBernardo Baraja\, Guitarra y voz\nDiego Vera\, bajo\nPancho Garcés\, Batería\n\nInvitada especial Furronda Count voz y armónica
URL:https://bargrez.cl/event/blues-jam-session-18-de-febrero/
LOCATION:Bar Grez\, Dr. Manuel Barros Borgoño 81\, Santiago\, Chile
CATEGORIES:Blues
ATTACH;FMTTYPE=image/jpeg:https://bargrez.cl/wp-content/uploads/2026/02/0211.jpg
END:VEVENT
END:VCALENDAR