BEGIN:VCALENDAR
VERSION:2.0
PRODID:-// - ECPv6.5.0.1//NONSGML v1.0//EN
CALSCALE:GREGORIAN
METHOD:PUBLISH
X-ORIGINAL-URL:https://bargrez.cl
X-WR-CALDESC:Eventos para 
REFRESH-INTERVAL;VALUE=DURATION:PT1H
X-Robots-Tag:noindex
X-PUBLISHED-TTL:PT1H
BEGIN:VTIMEZONE
TZID:America/Halifax
BEGIN:DAYLIGHT
TZOFFSETFROM:-0400
TZOFFSETTO:-0300
TZNAME:ADT
DTSTART:20250309T060000
END:DAYLIGHT
BEGIN:STANDARD
TZOFFSETFROM:-0300
TZOFFSETTO:-0400
TZNAME:AST
DTSTART:20251102T050000
END:STANDARD
END:VTIMEZONE
BEGIN:VEVENT
DTSTART;TZID=America/Halifax:20250130T210000
DTEND;TZID=America/Halifax:20250130T235900
DTSTAMP:20260420T030700
CREATED:20250128T133432Z
LAST-MODIFIED:20250128T133432Z
UID:2164-1738270800-1738281540@bargrez.cl
SUMMARY:MARRASA desde México\, 30 de enero
DESCRIPTION:
URL:https://bargrez.cl/event/marrasa-desde-mexico-30-de-enero/
LOCATION:Bar Grez\, Dr. Manuel Barros Borgoño 81\, Santiago\, Chile
CATEGORIES:Fusión
ATTACH;FMTTYPE=image/jpeg:https://bargrez.cl/wp-content/uploads/2025/01/3001.jpeg
END:VEVENT
END:VCALENDAR