BEGIN:VCALENDAR
VERSION:2.0
PRODID:-// - ECPv6.5.0.1//NONSGML v1.0//EN
CALSCALE:GREGORIAN
METHOD:PUBLISH
X-ORIGINAL-URL:https://bargrez.cl
X-WR-CALDESC:Eventos para 
REFRESH-INTERVAL;VALUE=DURATION:PT1H
X-Robots-Tag:noindex
X-PUBLISHED-TTL:PT1H
BEGIN:VTIMEZONE
TZID:America/Halifax
BEGIN:DAYLIGHT
TZOFFSETFROM:-0400
TZOFFSETTO:-0300
TZNAME:ADT
DTSTART:20240310T060000
END:DAYLIGHT
BEGIN:STANDARD
TZOFFSETFROM:-0300
TZOFFSETTO:-0400
TZNAME:AST
DTSTART:20241103T050000
END:STANDARD
END:VTIMEZONE
BEGIN:VEVENT
DTSTART;TZID=America/Halifax:20240831T213000
DTEND;TZID=America/Halifax:20240831T235900
DTSTAMP:20260422T030213
CREATED:20240825T174812Z
LAST-MODIFIED:20240825T174812Z
UID:1775-1725139800-1725148740@bargrez.cl
SUMMARY:CRISTIAN SILVA Y BANDA\, 31 agosto
DESCRIPTION:
URL:https://bargrez.cl/event/cristian-silva-y-banda-31-agosto/
LOCATION:Bar Grez\, Dr. Manuel Barros Borgoño 81\, Santiago\, Chile
CATEGORIES:Soul
ATTACH;FMTTYPE=image/png:https://bargrez.cl/wp-content/uploads/2024/08/31-agosto.png
END:VEVENT
END:VCALENDAR