BEGIN:VCALENDAR
VERSION:2.0
PRODID:-// - ECPv6.5.0.1//NONSGML v1.0//EN
CALSCALE:GREGORIAN
METHOD:PUBLISH
X-ORIGINAL-URL:https://bargrez.cl
X-WR-CALDESC:Eventos para 
REFRESH-INTERVAL;VALUE=DURATION:PT1H
X-Robots-Tag:noindex
X-PUBLISHED-TTL:PT1H
BEGIN:VTIMEZONE
TZID:America/Halifax
BEGIN:DAYLIGHT
TZOFFSETFROM:-0400
TZOFFSETTO:-0300
TZNAME:ADT
DTSTART:20250309T060000
END:DAYLIGHT
BEGIN:STANDARD
TZOFFSETFROM:-0300
TZOFFSETTO:-0400
TZNAME:AST
DTSTART:20251102T050000
END:STANDARD
END:VTIMEZONE
BEGIN:VEVENT
DTSTART;TZID=America/Halifax:20250516T213000
DTEND;TZID=America/Halifax:20250516T235900
DTSTAMP:20260421T132219
CREATED:20250512T022028Z
LAST-MODIFIED:20250512T022028Z
UID:2619-1747431000-1747439940@bargrez.cl
SUMMARY:Danieia Vivar Soul Night\, 16 de mayo
DESCRIPTION:Hugo Naranjo\, Piano.\nLuis Cuevas\, Bajo.\nJoel Zamorano\, Bateria.\nDanieia Vivar\, Voz.
URL:https://bargrez.cl/event/danieia-vivar-soul-night-16-de-mayo/
LOCATION:Bar Grez\, Dr. Manuel Barros Borgoño 81\, Santiago\, Chile
CATEGORIES:Soul
ATTACH;FMTTYPE=image/jpeg:https://bargrez.cl/wp-content/uploads/2025/05/1605.jpeg
END:VEVENT
BEGIN:VEVENT
DTSTART;TZID=America/Halifax:20250529T213000
DTEND;TZID=America/Halifax:20250529T235900
DTSTAMP:20260421T132219
CREATED:20250526T041236Z
LAST-MODIFIED:20250526T041236Z
UID:2656-1748554200-1748563140@bargrez.cl
SUMMARY:Decibelia\, 29 mayo
DESCRIPTION:Decibelia es un grupo de 5 integrantes\, que busca plasmar la esencia del R&B\, el soul\, el funk\, el blues\, etc.\, versionando clásicos de los más grandes exponentes de la música anglo. Todo esto pretendiendo lograr un sonido cercano que conecte con el alma y relaje\, como lo hace el soul\, amenizar entornos más íntimos\, así como también generar un ambiente más bailable y alegre como lo hace el funk. \nKarina Cáceres (voz\, y teclado)\, Richard Galea (guitarra)\, Mario Reyes (batería y voz)\, Diego Rojas (saxo) y Raul Peralta (bajo)\, se arman con todo su talento musical para llevarle al público una mixtura de sensaciones\, colores y armonías típicas del Rhythm and Blues. \nSus influencias son Erykah Badu\, George Benson\, The RH Factor\, George Michael\, INXS\, Madona\, Joss Stone\, Annie Lennox\, Duffy\, Alicia Keys\, Amy Winehouse\, Sade\, Lenny Kravitz\, Faith No More\, Queen\, Adele\, BB King\, Etta James\, Michael Jackson\, entre muchos otros otorgan a la banda DECIBELIA la oportunidad de representar y transmitir en el escenario el reflejo de la calidad sonora de dichos artistas representados. \nPREPÁRATE PARA UNA NOCHE INCREÍBLE!!!! \nEntradas disponibles en Portaltickets \nPreventa: $5.000\nPuerta: $7.000
URL:https://bargrez.cl/event/decibelia-29-mayo/
CATEGORIES:Funk,Soul
ATTACH;FMTTYPE=image/jpeg:https://bargrez.cl/wp-content/uploads/2025/05/2905.jpeg
END:VEVENT
END:VCALENDAR