BEGIN:VCALENDAR
VERSION:2.0
PRODID:-// - ECPv6.5.0.1//NONSGML v1.0//EN
CALSCALE:GREGORIAN
METHOD:PUBLISH
X-ORIGINAL-URL:https://bargrez.cl
X-WR-CALDESC:Eventos para 
REFRESH-INTERVAL;VALUE=DURATION:PT1H
X-Robots-Tag:noindex
X-PUBLISHED-TTL:PT1H
BEGIN:VTIMEZONE
TZID:America/Halifax
BEGIN:DAYLIGHT
TZOFFSETFROM:-0400
TZOFFSETTO:-0300
TZNAME:ADT
DTSTART:20250309T060000
END:DAYLIGHT
BEGIN:STANDARD
TZOFFSETFROM:-0300
TZOFFSETTO:-0400
TZNAME:AST
DTSTART:20251102T050000
END:STANDARD
END:VTIMEZONE
BEGIN:VEVENT
DTSTART;TZID=America/Halifax:20250124T213000
DTEND;TZID=America/Halifax:20250124T235900
DTSTAMP:20260421T204742
CREATED:20250120T014957Z
LAST-MODIFIED:20250120T014957Z
UID:2142-1737754200-1737763140@bargrez.cl
SUMMARY:DANIELA VIVAR CUARTETO\, 24 enero
DESCRIPTION:DANIELA VIVAR\, VOZ.\nHUGO NARANJO\, PIANO.\nLUIS CUEVAS\, BAJO.\nJAIME DELGADO\, BATERÍA.
URL:https://bargrez.cl/event/daniela-vivar-cuarteto-24-enero/
LOCATION:Bar Grez\, Dr. Manuel Barros Borgoño 81\, Santiago\, Chile
CATEGORIES:Soul
ATTACH;FMTTYPE=image/jpeg:https://bargrez.cl/wp-content/uploads/2025/01/2401.jpeg
END:VEVENT
END:VCALENDAR