BEGIN:VCALENDAR
VERSION:2.0
PRODID:-// - ECPv6.5.0.1//NONSGML v1.0//EN
CALSCALE:GREGORIAN
METHOD:PUBLISH
X-ORIGINAL-URL:https://bargrez.cl
X-WR-CALDESC:Eventos para 
REFRESH-INTERVAL;VALUE=DURATION:PT1H
X-Robots-Tag:noindex
X-PUBLISHED-TTL:PT1H
BEGIN:VTIMEZONE
TZID:America/Halifax
BEGIN:DAYLIGHT
TZOFFSETFROM:-0400
TZOFFSETTO:-0300
TZNAME:ADT
DTSTART:20260308T060000
END:DAYLIGHT
BEGIN:STANDARD
TZOFFSETFROM:-0300
TZOFFSETTO:-0400
TZNAME:AST
DTSTART:20261101T050000
END:STANDARD
END:VTIMEZONE
BEGIN:VEVENT
DTSTART;TZID=America/Halifax:20260413T203000
DTEND;TZID=America/Halifax:20260413T235900
DTSTAMP:20260420T065450
CREATED:20260413T024057Z
LAST-MODIFIED:20260413T024057Z
UID:3488-1776112200-1776124740@bargrez.cl
SUMMARY:Lunes de Che Burlesque "Buenos Aires a tu mesa"\, 13 de abril
DESCRIPTION:Si estás buscando un panorama diferente en Santiago\, Che Burlesque presenta un show de burlesque y cabaret en vivo en el íntimo escenario de Bar Grez. \nEl próximo lunes 13 de abril a las 20:30 hrs\, vive un espectáculo que combina burlesque contemporáneo\, performance en vivo\, estética vintage y humor\, en una experiencia elegante\, provocadora y llena de energía. \nEste show en vivo en Santiago está pensado para quienes buscan una noche distinta\, ideal para citas\, celebraciones o simplemente disfrutar de un espectáculo nocturno único. \nUbicado en el corazón de la ciudad\, Bar Grez se transforma en el escenario perfecto para una velada de cabaret\, glamour y sensualidad\, donde cada número conecta directamente con el público. \nEntradas a través de Portaltickets
URL:https://bargrez.cl/event/lunes-de-che-burlesque-buenos-aires-a-tu-mesa-13-de-abril/
LOCATION:Bar Grez\, Dr. Manuel Barros Borgoño 81\, Santiago\, Chile
CATEGORIES:Música en vivo
ATTACH;FMTTYPE=image/jpeg:https://bargrez.cl/wp-content/uploads/2026/04/0413.jpeg
END:VEVENT
BEGIN:VEVENT
DTSTART;TZID=America/Halifax:20260414T203000
DTEND;TZID=America/Halifax:20260414T235900
DTSTAMP:20260420T065450
CREATED:20260413T024201Z
LAST-MODIFIED:20260413T024201Z
UID:3490-1776198600-1776211140@bargrez.cl
SUMMARY:Jazz Jam Session\, 14 de abril
DESCRIPTION:Anfitrión F. Saavedra Trio
URL:https://bargrez.cl/event/jazz-jam-session-14-de-abril/
LOCATION:Bar Grez\, Dr. Manuel Barros Borgoño 81\, Santiago\, Chile
CATEGORIES:Jazz
ATTACH;FMTTYPE=image/jpeg:https://bargrez.cl/wp-content/uploads/2026/04/0414.jpeg
END:VEVENT
BEGIN:VEVENT
DTSTART;TZID=America/Halifax:20260415T203000
DTEND;TZID=America/Halifax:20260415T235900
DTSTAMP:20260420T065450
CREATED:20260413T024356Z
LAST-MODIFIED:20260413T024356Z
UID:3492-1776285000-1776297540@bargrez.cl
SUMMARY:Blues Jam Session \, 15 de abril
DESCRIPTION:Anfitrión S. Arrriagada Trio
URL:https://bargrez.cl/event/blues-jam-session-15-de-abril/
LOCATION:Bar Grez\, Dr. Manuel Barros Borgoño 81\, Santiago\, Chile
CATEGORIES:Blues
ATTACH;FMTTYPE=image/jpeg:https://bargrez.cl/wp-content/uploads/2026/04/0415.jpeg
END:VEVENT
BEGIN:VEVENT
DTSTART;TZID=America/Halifax:20260416T213000
DTEND;TZID=America/Halifax:20260416T235900
DTSTAMP:20260420T065450
CREATED:20260413T024606Z
LAST-MODIFIED:20260413T024606Z
UID:3494-1776375000-1776383940@bargrez.cl
SUMMARY:JM Carrasco Blues Band\, 16 de abril
DESCRIPTION:CRISTIAN SILVA\, VOZ\nJM CARRASCO\, GUITARRA\nDANIEL ARDILES\, BAJO\nFELIPE SILVA\, TECLADO\nJP JARAMILLO\, BATERIA
URL:https://bargrez.cl/event/jm-carrasco-blues-band-16-de-abril/
LOCATION:Bar Grez\, Dr. Manuel Barros Borgoño 81\, Santiago\, Chile
CATEGORIES:Blues
ATTACH;FMTTYPE=image/jpeg:https://bargrez.cl/wp-content/uploads/2026/04/0416.jpeg
END:VEVENT
BEGIN:VEVENT
DTSTART;TZID=America/Halifax:20260417T213000
DTEND;TZID=America/Halifax:20260417T235900
DTSTAMP:20260420T065450
CREATED:20260413T025340Z
LAST-MODIFIED:20260413T025340Z
UID:3496-1776461400-1776470340@bargrez.cl
SUMMARY:Bárbara Lira Cuarteto\, 17 de abril
DESCRIPTION:SERGIO VALENZUELA\, PIANO\nALONSO DURAN\, CONTRABAJO\nNICOLAS RIOS\, BATERIA
URL:https://bargrez.cl/event/barbara-lira-cuarteto-17-de-abril/
LOCATION:Bar Grez\, Dr. Manuel Barros Borgoño 81\, Santiago\, Chile
CATEGORIES:Jazz
ATTACH;FMTTYPE=image/jpeg:https://bargrez.cl/wp-content/uploads/2026/04/0417.jpeg
END:VEVENT
BEGIN:VEVENT
DTSTART;TZID=America/Halifax:20260418T213000
DTEND;TZID=America/Halifax:20260418T235900
DTSTAMP:20260420T065450
CREATED:20260413T025605Z
LAST-MODIFIED:20260413T025625Z
UID:3498-1776547800-1776556740@bargrez.cl
SUMMARY:Miles Davis Quintet\, 18 de abril
DESCRIPTION:Miles Davis\, fue uno de los músicos más creativos e innovadores en la historia del jazz. Fue parte fundamental de todos los movimientos de jazz\, comenzando como discípulo de Charlie Parker en la era del Be-bop hasta el jazz fusión a fines de la década del ochenta. Este homenaje abarca la etapa acústica de Miles\, la que desarrolló en formato de quinteto durante las décadas del cincuenta y sesenta\, e incluye clásicos como Four\, Someday My Prince Will Come y So What. \nLa banda está integrada por destacados músicos de la escena nacional. Juan Pablo Salvo en trompeta (Christian Gálvez\, Conchalí Big Band)\, Agustín Moya en saxo tenor (Ensamble Quintessence\, Roberto Lecaros)\, Santiago Monroy en piano (Claudio Rubio\, Keith Hall)\, Juan Ríos en contrabajo (Camilo Aliaga\, Sergio Olivares) y Nelson Oliva (Giovanni Cultrera\, Dave Young). \nEntradas a través de PortalTickets \nPreventa: $8.000 + Cargo\nDía del concierto: $10.000 + Cargo
URL:https://bargrez.cl/event/miles-davis-quintet-18-de-abril/
LOCATION:Bar Grez\, Dr. Manuel Barros Borgoño 81\, Santiago\, Chile
CATEGORIES:Jazz
ATTACH;FMTTYPE=image/jpeg:https://bargrez.cl/wp-content/uploads/2026/04/0418.jpeg
END:VEVENT
BEGIN:VEVENT
DTSTART;TZID=America/Halifax:20260420T203000
DTEND;TZID=America/Halifax:20260420T235900
DTSTAMP:20260420T065450
CREATED:20260419T154606Z
LAST-MODIFIED:20260419T154606Z
UID:3506-1776717000-1776729540@bargrez.cl
SUMMARY:Escuela de Canto Paola Guerrero\, 20 de abril
DESCRIPTION:Presentación de alumnos \nBanda soparte \n\nGuillermo Jimenez\, Guitarra\nAmerico Olivari\, Piano\nMiguel Perez\, Bajo\nEdzon Maqueira\, Batería
URL:https://bargrez.cl/event/escuela-de-canto-paola-guerrero-20-de-abril/
LOCATION:Bar Grez\, Dr. Manuel Barros Borgoño 81\, Santiago\, Chile
CATEGORIES:Música en vivo
ATTACH;FMTTYPE=image/jpeg:https://bargrez.cl/wp-content/uploads/2026/04/0420.jpeg
END:VEVENT
BEGIN:VEVENT
DTSTART;TZID=America/Halifax:20260421T203000
DTEND;TZID=America/Halifax:20260421T235900
DTSTAMP:20260420T065450
CREATED:20260419T154700Z
LAST-MODIFIED:20260419T154700Z
UID:3508-1776803400-1776815940@bargrez.cl
SUMMARY:Jazz Jam Session\, 21 de abril
DESCRIPTION:Anfitrión F. Saavedra Trio
URL:https://bargrez.cl/event/jazz-jam-session-21-de-abril/
LOCATION:Bar Grez\, Dr. Manuel Barros Borgoño 81\, Santiago\, Chile
CATEGORIES:Jazz
ATTACH;FMTTYPE=image/jpeg:https://bargrez.cl/wp-content/uploads/2026/04/0421.jpeg
END:VEVENT
BEGIN:VEVENT
DTSTART;TZID=America/Halifax:20260422T203000
DTEND;TZID=America/Halifax:20260422T235900
DTSTAMP:20260420T065450
CREATED:20260419T154752Z
LAST-MODIFIED:20260419T154752Z
UID:3510-1776889800-1776902340@bargrez.cl
SUMMARY:Blues Jam Session \, 22 de abril
DESCRIPTION:Anfitrión B. Baraja Trio
URL:https://bargrez.cl/event/blues-jam-session-22-de-abril/
LOCATION:Bar Grez\, Dr. Manuel Barros Borgoño 81\, Santiago\, Chile
CATEGORIES:Blues
ATTACH;FMTTYPE=image/jpeg:https://bargrez.cl/wp-content/uploads/2026/04/0422.jpeg
END:VEVENT
BEGIN:VEVENT
DTSTART;TZID=America/Halifax:20260423T213000
DTEND;TZID=America/Halifax:20260423T235900
DTSTAMP:20260420T065450
CREATED:20260419T161334Z
LAST-MODIFIED:20260419T162231Z
UID:3512-1776979800-1776988740@bargrez.cl
SUMMARY:Vintage Blues\, 23 de abril
DESCRIPTION:Una banda de amplia y reconocida trayectoria\, con una propuesta enérgica en vivo\, destacada por sus arreglos vocales e instrumentales. Su sonido\, potente y poco convencional\, busca trascender fronteras con una identidad internacional. \nChristian Orellana – Voz y guitarra\nNicolas Romero – Coros y teclados\nDiego Molina – Batería \nINVITADO DE LUJO: BLACK VILLALOBOS. \n  \nEntradas a travez de PortalTickets
URL:https://bargrez.cl/event/vintage-blues-23-de-abril/
LOCATION:Bar Grez\, Dr. Manuel Barros Borgoño 81\, Santiago\, Chile
CATEGORIES:Blues
ATTACH;FMTTYPE=image/jpeg:https://bargrez.cl/wp-content/uploads/2026/04/0423.jpeg
END:VEVENT
BEGIN:VEVENT
DTSTART;TZID=America/Halifax:20260424T213000
DTEND;TZID=America/Halifax:20260424T235900
DTSTAMP:20260420T065450
CREATED:20260419T162534Z
LAST-MODIFIED:20260419T162534Z
UID:3516-1777066200-1777075140@bargrez.cl
SUMMARY:Mario Feito Cuarteto Jazz show\, 24 de Abril
DESCRIPTION:MARIO FEITO\, PIANO\nEDEN CARRASCO\, SAXO\nALONSO DURAN\, CONTRABAJO\nNICOLAS RIOS\, BATERIA\n+ Invitados
URL:https://bargrez.cl/event/mario-feito-cuarteto-jazz-show-24-de-abril/
LOCATION:Bar Grez\, Dr. Manuel Barros Borgoño 81\, Santiago\, Chile
CATEGORIES:Jazz,Música en vivo
ATTACH;FMTTYPE=image/jpeg:https://bargrez.cl/wp-content/uploads/2026/04/0424.jpeg
END:VEVENT
BEGIN:VEVENT
DTSTART;TZID=America/Halifax:20260425T213000
DTEND;TZID=America/Halifax:20260425T235900
DTSTAMP:20260420T065450
CREATED:20260419T162753Z
LAST-MODIFIED:20260419T162753Z
UID:3519-1777152600-1777161540@bargrez.cl
SUMMARY:Andrés Nazar Blues Quartet\, 25 de abril
DESCRIPTION:ANDRÉS NAZAR\, GUITAR\nDANIEL ARDILES\, BASS\nJR SOUL\, KEYS\nNICOLAS POZO\, DRUMS\n+ Invitados
URL:https://bargrez.cl/event/andres-nazar-blues-quartet-25-de-abril/
LOCATION:Bar Grez\, Dr. Manuel Barros Borgoño 81\, Santiago\, Chile
CATEGORIES:Blues
ATTACH;FMTTYPE=image/jpeg:https://bargrez.cl/wp-content/uploads/2026/04/0425.jpeg
END:VEVENT
END:VCALENDAR